Workbook

Sheet SM Pay
B1: 2026 OLS PAY CALCULATION
B2: SM Information | F2: Daily Pay | G2: Pay For the Pay Period | I2: SM Pay Period Info
B3: Grade | C3: E-8 | E3: Base Pay | F3: =IF(OR(C3="",C4=""),"",IF(C5='Daily Pay Table 2026'!B2,VLOOKUP(C3,'Daily Pay Table 2026'!A:W,2,FALSE),IF(C5='Daily Pay Table 2026'!C2,VLOOKUP(C3,'Daily Pay Table 2026'!A:W,3,FALSE),IF(C5='Daily Pay Table 2026'!D2,VLOOKUP(C3,'Daily Pay Table 2026'!A:W,4,FALSE),IF(C5='Daily Pay Table 2026'!E2,VLOOKUP(C3,'Daily Pay Table 2026'!A:W,5,FALSE),IF(C5='Daily Pay Table 2026'!F2,VLOOKUP(C3,'Daily Pay Table 2026'!A:W,6,FALSE),IF(C5='Daily Pay Table 2026'!G2,VLOOKUP(C3,'Daily Pay Table 2026'!A:W,7,FALSE),IF(C5='Daily Pay Table 2026'!H2,VLOOKUP(C3,'Daily Pay Table 2026'!A:W,8,FALSE),IF(C5='Daily Pay Table 2026'!I2,VLOOKUP(C3,'Daily Pay Table 2026'!A:W,9,FALSE),IF(C5='Daily Pay Table 2026'!J2,VLOOKUP(C3,'Daily Pay Table 2026'!A:W,10,FALSE),IF(C5='Daily Pay Table 2026'!K2,VLOOKUP(C3,'Daily Pay Table 2026'!A:W,11,FALSE),IF(C5='Daily Pay Table 2026'!L2,VLOOKUP(C3,'Daily Pay Table 2026'!A:W,12,FALSE),IF(C5='Daily Pay Table 2026'!M2,VLOOKUP(C3,'Daily Pay Table 2026'!A:W,13,FALSE),IF(C5='Daily Pay Table 2026'!N2,VLOOKUP(C3,'Daily Pay Table 2026'!A:W,14,FALSE),IF(C5='Daily Pay Table 2026'!O2,VLOOKUP(C3,'Daily Pay Table 2026'!A:W,15,FALSE),IF(C5='Daily Pay Table 2026'!P2,VLOOKUP(C3,'Daily Pay Table 2026'!A:W,16,FALSE),IF(C5='Daily Pay Table 2026'!Q2,VLOOKUP(C3,'Daily Pay Table 2026'!A:W,17,FALSE),IF(C5='Daily Pay Table 2026'!R2,VLOOKUP(C3,'Daily Pay Table 2026'!A:W,18,FALSE),IF(C5='Daily Pay Table 2026'!S2,VLOOKUP(C3,'Daily Pay Table 2026'!A:W,19,FALSE),IF(C5='Daily Pay Table 2026'!T2,VLOOKUP(C3,'Daily Pay Table 2026'!A:W,20,FALSE),IF(C5='Daily Pay Table 2026'!U2,VLOOKUP(C3,'Daily Pay Table 2026'!A:W,21,FALSE),IF(C5='Daily Pay Table 2026'!V2,VLOOKUP(C3,'Daily Pay Table 2026'!A:W,22,FALSE),IF(C5='Daily Pay Table 2026'!W2,VLOOKUP(C3,'Daily Pay Table 2026'!A:W,23,FALSE)))))))))))))))))))))))) -> 16.67 | G3: =IF($C$10="","",F3*$C$10) -> 516.77 | I3: Gross Income | J3: =G13 -> 6883.77
B4: Time In Service | C4: 4 | E4: BAH | F4: =IF(C7="","",IF(C7=0,VLOOKUP(C3,'Daily Non-Locality BAH 2026'!A:C,2,FALSE),IF(C7>0,VLOOKUP(C3,'Daily Non-Locality BAH 2026'!A:C,3,FALSE)))) -> 45.81 | G4: =IF($C$10="","",F4*$C$10) -> 1420.11 | I4: Non Taxable Income | J4: =F22 -> 4020.9583
B5: Table Time | C5: =IF(C4="","",IF(OR(C4=0,C4=1),'Daily Pay Table 2026'!B2,IF(C4=2,'Daily Pay Table 2026'!C2,IF(C4=3,'Daily Pay Table 2026'!D2,IF(OR(C4=4,C4=5),'Daily Pay Table 2026'!E2,IF(OR(C4=6,C4=7),'Daily Pay Table 2026'!F2,IF(OR(C4=8,C4=9),'Daily Pay Table 2026'!G2,IF(OR(C4=10,C4=11),'Daily Pay Table 2026'!H2,IF(OR(C4=12,C4=13),'Daily Pay Table 2026'!I2,IF(OR(C4=14,C4=15),'Daily Pay Table 2026'!J2,IF(OR(C4=16,C4=17),'Daily Pay Table 2026'!K2,IF(OR(C4=18,C4=19),'Daily Pay Table 2026'!L2,IF(OR(C4=20,C4=21),'Daily Pay Table 2026'!M2,IF(OR(C4=22,C4=23),'Daily Pay Table 2026'!N2,IF(OR(C4=24,C4=25),'Daily Pay Table 2026'!O2,IF(OR(C4=26,C4=27),'Daily Pay Table 2026'!P2,IF(OR(C4=28,C4=29),'Daily Pay Table 2026'!Q2,IF(OR(C4=30,C4=31),'Daily Pay Table 2026'!R2,IF(OR(C4=32,C4=33),'Daily Pay Table 2026'!S2,IF(OR(C4=34,C4=35),'Daily Pay Table 2026'!T2,IF(OR(C4=36,C4=37),'Daily Pay Table 2026'!U2,IF(OR(C4=38,C4=39),'Daily Pay Table 2026'!V2,IF(C4>39,'Daily Pay Table 2026'!W2))))))))))))))))))))))) -> Over 4 | E5: BAS | F5: =IF(LEFT(C3,1)="E",'BAS & PER DIEM'!C6,'BAS & PER DIEM'!B6) -> 15.898333 | G5: =IF($C$10="","",F5*$C$10) -> 492.84833 | I5: Taxable Income | J5: =F23 -> 2862.8117
B6: Marital Status | C6: Single | E6: Per Diem | F6: =IF(OR(C3="",C4=""),"",'BAS & PER DIEM'!G3) -> 68 | G6: =IF($C$10="","",F6*$C$10) -> 2108 | I6: Est. Federal Income Tax | J6: =J5*C17 -> 629.81857
B7: No. of Dependents | C7: 0 | E7: Adjust Minimum Income | F7: =IF(SUM(F3:F6)<173.67,173.67-SUM(F3:F6),0) -> 27.291667 | G7: =IF($C$10="","",F7*$C$10) -> 846.04167 | I7: Est. FICA Tax | J7: =J5*C18 -> 219.00509
B8: Date Period Start | C8: 46023 | E8: HDP | F8: =G8/($C$9-$C$8+1) -> 16.129032 | G8: =IF(C11="Yes",500*C16,0) -> 500 | I8: Est. Total Taxed | J8: =J6+J7 -> 848.82366
B9: Date Period End | C9: 46053 | E9: IDP | F9: =G9/($C$9-$C$8+1) -> 0 | G9: =IF(C12="Yes",225*C16,0) -> 0 | I9: Est. Net Income | J9: =J3-J8 -> 6034.9463
B10: Total Days Period | C10: =_xlfn.DAYS(C9,C8)+1 -> 31 | E10: HDA | F10: =G10/($C$9-$C$8+1) -> 32.258065 | G10: =IF(C13="Yes",1000*C16,0) -> 1000
B11: Include HDP | C11: Yes | E11: MBCP | F11: =G11/($C$9-$C$8+1) -> 0 | G11: =IF(C14="Yes",500*C16,0) -> 0
B12: Include IDP | C12: No | E12: Aviation Pay | F12: =IF(C15="Yes",33,0) -> 0 | G12: =SUM(F12*C10) -> 0
B13: Include HDA | C13: Yes | E13: Total | F13: =SUM(F3:F12) -> 222.0571 | G13: =SUM(G3:G12) -> 6883.77
B14: Include MBCP | C14: No
B15: Include AviationPay | C15: No | E15: What SAMS Payroll Breakdown Info Should Show
B16: No. months incentives | C16: 1 | E16: Pay Grd | F16: YRS SRV | G16: M. Status | H16: D. Status | I16: *Tax WH | J16: Enlisted Credit | K16: Duty Days
B17: Federal Income Tax | C17: 0.22 | E17: =C3 -> E-8 | F17: =C4 -> 4 | G17: =IF(C6="Married","M",IF(C6="Divorced","D","S")) -> S | H17: =IF(C7>0,"YES","NO") -> NO | I17: S00 | J17: =IF(C3="O-1E","Yes",IF(C3="O-2E","Yes",IF(C3="O-3E","Yes","No"))) -> No | K17: =C10 -> 31
B18: FICA Tax | C18: 0.0765 | I18: *Taxes are calculated within CAPPS and not SAMS, this status within SAMS means nothing.
E19: Pay Statement Gross Pay Breakdown
E21: Description | F21: Earnings
E22: State Active Duty Allowances (Non-Tax) | F22: =G4+G5+G6 -> 4020.9583
E23: State Active Duty 90 Days (Tax) | F23: =G3+G7+G8+G9+G10+G11+G12 -> 2862.8117
E24: Total | F24: =SUM(F22:F23) -> 6883.77

Sheet Daily Pay Table 2026
B1: Pay Table 2026
B2: 2 or less | C2: Over 2 | D2: Over 3 | E2: Over 4 | F2: Over 6 | G2: Over 8 | H2: Over 10 | I2: Over 12 | J2: Over 14 | K2: Over 16 | L2: Over 18 | M2: Over 20 | N2: Over 22 | O2: Over 24 | P2: Over 26 | Q2: Over 28 | R2: Over 30 | S2: Over 32 | T2: Over 34 | U2: Over 36 | V2: Over 38 | W2: Over 40
A3: O-10 | B3: =TRUNC('Pay Table 2026'!B3/30,2)+16.67 -> 16.67 | C3: =TRUNC('Pay Table 2026'!C3/30,2)+16.67 -> 16.67 | D3: =TRUNC('Pay Table 2026'!D3/30,2)+16.67 -> 16.67 | E3: =TRUNC('Pay Table 2026'!E3/30,2)+16.67 -> 16.67 | F3: =TRUNC('Pay Table 2026'!F3/30,2)+16.67 -> 16.67 | G3: =TRUNC('Pay Table 2026'!G3/30,2)+16.67 -> 16.67 | H3: =TRUNC('Pay Table 2026'!H3/30,2)+16.67 -> 16.67 | I3: =TRUNC('Pay Table 2026'!I3/30,2)+16.67 -> 16.67 | ... W3: =TRUNC('Pay Table 2026'!W3/30,2)+16.67 -> 650
A4: O-9 | B4: =TRUNC('Pay Table 2026'!B4/30,2)+16.67 -> 16.67 | C4: =TRUNC('Pay Table 2026'!C4/30,2)+16.67 -> 16.67 | D4: =TRUNC('Pay Table 2026'!D4/30,2)+16.67 -> 16.67 | E4: =TRUNC('Pay Table 2026'!E4/30,2)+16.67 -> 16.67 | F4: =TRUNC('Pay Table 2026'!F4/30,2)+16.67 -> 16.67 | G4: =TRUNC('Pay Table 2026'!G4/30,2)+16.67 -> 16.67 | H4: =TRUNC('Pay Table 2026'!H4/30,2)+16.67 -> 16.67 | I4: =TRUNC('Pay Table 2026'!I4/30,2)+16.67 -> 16.67 | ... W4: =TRUNC('Pay Table 2026'!W4/30,2)+16.67 -> 650
A5: O-8 | B5: =TRUNC('Pay Table 2026'!B5/30,2)+16.67 -> 479.62 | C5: =TRUNC('Pay Table 2026'!C5/30,2)+16.67 -> 494.8 | D5: =TRUNC('Pay Table 2026'!D5/30,2)+16.67 -> 504.85 | E5: =TRUNC('Pay Table 2026'!E5/30,2)+16.67 -> 507.65 | F5: =TRUNC('Pay Table 2026'!F5/30,2)+16.67 -> 520.22 | G5: =TRUNC('Pay Table 2026'!G5/30,2)+16.67 -> 541.18 | H5: =TRUNC('Pay Table 2026'!H5/30,2)+16.67 -> 546.07 | I5: =TRUNC('Pay Table 2026'!I5/30,2)+16.67 -> 565.99 | ... W5: =TRUNC('Pay Table 2026'!W5/30,2)+16.67 -> 650
A6: O-7 | B6: =TRUNC('Pay Table 2026'!B6/30,2)+16.67 -> 401.34 | C6: =TRUNC('Pay Table 2026'!C6/30,2)+16.67 -> 419.21 | D6: =TRUNC('Pay Table 2026'!D6/30,2)+16.67 -> 427.48 | E6: =TRUNC('Pay Table 2026'!E6/30,2)+16.67 -> 434.07 | F6: =TRUNC('Pay Table 2026'!F6/30,2)+16.67 -> 445.96 | G6: =TRUNC('Pay Table 2026'!G6/30,2)+16.67 -> 457.73 | H6: =TRUNC('Pay Table 2026'!H6/30,2)+16.67 -> 471.31 | I6: =TRUNC('Pay Table 2026'!I6/30,2)+16.67 -> 484.86 | ... W6: =TRUNC('Pay Table 2026'!W6/30,2)+16.67 -> 591.41
A7: O-6 | B7: =TRUNC('Pay Table 2026'!B7/30,2)+16.67 -> 308.38 | C7: =TRUNC('Pay Table 2026'!C7/30,2)+16.67 -> 337.13 | D7: =TRUNC('Pay Table 2026'!D7/30,2)+16.67 -> 358.17 | E7: =TRUNC('Pay Table 2026'!E7/30,2)+16.67 -> 358.17 | F7: =TRUNC('Pay Table 2026'!F7/30,2)+16.67 -> 359.48 | G7: =TRUNC('Pay Table 2026'!G7/30,2)+16.67 -> 374.17 | H7: =TRUNC('Pay Table 2026'!H7/30,2)+16.67 -> 376.12 | I7: =TRUNC('Pay Table 2026'!I7/30,2)+16.67 -> 376.12 | ... W7: =TRUNC('Pay Table 2026'!W7/30,2)+16.67 -> 530.28
A8: O-5 | B8: =TRUNC('Pay Table 2026'!B8/30,2)+16.67 -> 259.85 | C8: =TRUNC('Pay Table 2026'!C8/30,2)+16.67 -> 290.61 | D8: =TRUNC('Pay Table 2026'!D8/30,2)+16.67 -> 309.57 | E8: =TRUNC('Pay Table 2026'!E8/30,2)+16.67 -> 313.14 | F8: =TRUNC('Pay Table 2026'!F8/30,2)+16.67 -> 324.99 | G8: =TRUNC('Pay Table 2026'!G8/30,2)+16.67 -> 332.05 | H8: =TRUNC('Pay Table 2026'!H8/30,2)+16.67 -> 347.62 | I8: =TRUNC('Pay Table 2026'!I8/30,2)+16.67 -> 359.06 | ... W8: =TRUNC('Pay Table 2026'!W8/30,2)+16.67 -> 429.83
A9: O-4 | B9: =TRUNC('Pay Table 2026'!B9/30,2)+16.67 -> 226.49 | C9: =TRUNC('Pay Table 2026'!C9/30,2)+16.67 -> 259.55 | D9: =TRUNC('Pay Table 2026'!D9/30,2)+16.67 -> 275.79 | E9: =TRUNC('Pay Table 2026'!E9/30,2)+16.67 -> 279.37 | F9: =TRUNC('Pay Table 2026'!F9/30,2)+16.67 -> 294.41 | G9: =TRUNC('Pay Table 2026'!G9/30,2)+16.67 -> 310.55 | H9: =TRUNC('Pay Table 2026'!H9/30,2)+16.67 -> 330.67 | I9: =TRUNC('Pay Table 2026'!I9/30,2)+16.67 -> 346.28 | ... W9: =TRUNC('Pay Table 2026'!W9/30,2)+16.67 -> 367
A10: O-3 | B10: =TRUNC('Pay Table 2026'!B10/30,2)+16.67 -> 201.14 | C10: =TRUNC('Pay Table 2026'!C10/30,2)+16.67 -> 225.8 | D10: =TRUNC('Pay Table 2026'!D10/30,2)+16.67 -> 242.35 | E10: =TRUNC('Pay Table 2026'!E10/30,2)+16.67 -> 262.76 | F10: =TRUNC('Pay Table 2026'!F10/30,2)+16.67 -> 274.57 | G10: =TRUNC('Pay Table 2026'!G10/30,2)+16.67 -> 287.52 | H10: =TRUNC('Pay Table 2026'!H10/30,2)+16.67 -> 295.86 | I10: =TRUNC('Pay Table 2026'!I10/30,2)+16.67 -> 309.61 | ... W10: =TRUNC('Pay Table 2026'!W10/30,2)+16.67 -> 316.81
A11: O-2 | B11: =TRUNC('Pay Table 2026'!B11/30,2)+16.67 -> 176.07 | C11: =TRUNC('Pay Table 2026'!C11/30,2)+16.67 -> 198.21 | D11: =TRUNC('Pay Table 2026'!D11/30,2)+16.67 -> 225.75 | E11: =TRUNC('Pay Table 2026'!E11/30,2)+16.67 -> 232.82 | F11: =TRUNC('Pay Table 2026'!F11/30,2)+16.67 -> 237.26 | G11: =TRUNC('Pay Table 2026'!G11/30,2)+16.67 -> 237.26 | H11: =TRUNC('Pay Table 2026'!H11/30,2)+16.67 -> 237.26 | I11: =TRUNC('Pay Table 2026'!I11/30,2)+16.67 -> 237.26 | ... W11: =TRUNC('Pay Table 2026'!W11/30,2)+16.67 -> 237.26
A12: O-1 | B12: =TRUNC('Pay Table 2026'!B12/30,2)+16.67 -> 155.01 | C12: =TRUNC('Pay Table 2026'!C12/30,2)+16.67 -> 160.67 | D12: =TRUNC('Pay Table 2026'!D12/30,2)+16.67 -> 190.75 | E12: =TRUNC('Pay Table 2026'!E12/30,2)+16.67 -> 190.75 | F12: =TRUNC('Pay Table 2026'!F12/30,2)+16.67 -> 190.75 | G12: =TRUNC('Pay Table 2026'!G12/30,2)+16.67 -> 190.75 | H12: =TRUNC('Pay Table 2026'!H12/30,2)+16.67 -> 190.75 | I12: =TRUNC('Pay Table 2026'!I12/30,2)+16.67 -> 190.75 | ... W12: =TRUNC('Pay Table 2026'!W12/30,2)+16.67 -> 190.75
A13: O-3E | B13: =TRUNC('Pay Table 2026'!B15/30,2)+16.67 -> 16.67 | C13: =TRUNC('Pay Table 2026'!C15/30,2)+16.67 -> 16.67 | D13: =TRUNC('Pay Table 2026'!D15/30,2)+16.67 -> 16.67 | E13: =TRUNC('Pay Table 2026'!E15/30,2)+16.67 -> 262.76 | F13: =TRUNC('Pay Table 2026'!F15/30,2)+16.67 -> 274.57 | G13: =TRUNC('Pay Table 2026'!G15/30,2)+16.67 -> 287.52 | H13: =TRUNC('Pay Table 2026'!H15/30,2)+16.67 -> 295.86 | I13: =TRUNC('Pay Table 2026'!I15/30,2)+16.67 -> 309.61 | ... W13: =TRUNC('Pay Table 2026'!W15/30,2)+16.67 -> 336.99
A14: O-2E | B14: =TRUNC('Pay Table 2026'!B16/30,2)+16.67 -> 16.67 | C14: =TRUNC('Pay Table 2026'!C16/30,2)+16.67 -> 16.67 | D14: =TRUNC('Pay Table 2026'!D16/30,2)+16.67 -> 16.67 | E14: =TRUNC('Pay Table 2026'!E16/30,2)+16.67 -> 232.82 | F14: =TRUNC('Pay Table 2026'!F16/30,2)+16.67 -> 237.26 | G14: =TRUNC('Pay Table 2026'!G16/30,2)+16.67 -> 244.27 | H14: =TRUNC('Pay Table 2026'!H16/30,2)+16.67 -> 256.13 | I14: =TRUNC('Pay Table 2026'!I16/30,2)+16.67 -> 265.3 | ... W14: =TRUNC('Pay Table 2026'!W16/30,2)+16.67 -> 272.12
A15: O-1E | B15: =TRUNC('Pay Table 2026'!B17/30,2)+16.67 -> 16.67 | C15: =TRUNC('Pay Table 2026'!C17/30,2)+16.67 -> 16.67 | D15: =TRUNC('Pay Table 2026'!D17/30,2)+16.67 -> 16.67 | E15: =TRUNC('Pay Table 2026'!E17/30,2)+16.67 -> 190.75 | F15: =TRUNC('Pay Table 2026'!F17/30,2)+16.67 -> 202.56 | G15: =TRUNC('Pay Table 2026'!G17/30,2)+16.67 -> 209.44 | H15: =TRUNC('Pay Table 2026'!H17/30,2)+16.67 -> 216.46 | I15: =TRUNC('Pay Table 2026'!I17/30,2)+16.67 -> 223.36 | ... W15: =TRUNC('Pay Table 2026'!W17/30,2)+16.67 -> 232.82
A16: W-5 | B16: =TRUNC('Pay Table 2026'!B20/30,2)+16.67 -> 16.67 | C16: =TRUNC('Pay Table 2026'!C20/30,2)+16.67 -> 16.67 | D16: =TRUNC('Pay Table 2026'!D20/30,2)+16.67 -> 16.67 | E16: =TRUNC('Pay Table 2026'!E20/30,2)+16.67 -> 16.67 | F16: =TRUNC('Pay Table 2026'!F20/30,2)+16.67 -> 16.67 | G16: =TRUNC('Pay Table 2026'!G20/30,2)+16.67 -> 16.67 | H16: =TRUNC('Pay Table 2026'!H20/30,2)+16.67 -> 16.67 | I16: =TRUNC('Pay Table 2026'!I20/30,2)+16.67 -> 16.67 | ... W16: =TRUNC('Pay Table 2026'!W20/30,2)+16.67 -> 460.28
A17: W-4 | B17: =TRUNC('Pay Table 2026'!B21/30,2)+16.67 -> 207.33 | C17: =TRUNC('Pay Table 2026'!C21/30,2)+16.67 -> 221.74 | D17: =TRUNC('Pay Table 2026'!D21/30,2)+16.67 -> 227.62 | E17: =TRUNC('Pay Table 2026'!E21/30,2)+16.67 -> 233.41 | F17: =TRUNC('Pay Table 2026'!F21/30,2)+16.67 -> 243.4 | G17: =TRUNC('Pay Table 2026'!G21/30,2)+16.67 -> 253.27 | H17: =TRUNC('Pay Table 2026'!H21/30,2)+16.67 -> 263.27 | I17: =TRUNC('Pay Table 2026'!I21/30,2)+16.67 -> 278.28 | ... W17: =TRUNC('Pay Table 2026'!W21/30,2)+16.67 -> 371.79
A18: W-3 | B18: =TRUNC('Pay Table 2026'!B22/30,2)+16.67 -> 190.78 | C18: =TRUNC('Pay Table 2026'!C22/30,2)+16.67 -> 198.02 | D18: =TRUNC('Pay Table 2026'!D22/30,2)+16.67 -> 205.48 | E18: =TRUNC('Pay Table 2026'!E22/30,2)+16.67 -> 207.9 | F18: =TRUNC('Pay Table 2026'!F22/30,2)+16.67 -> 215.7 | G18: =TRUNC('Pay Table 2026'!G22/30,2)+16.67 -> 231.04 | H18: =TRUNC('Pay Table 2026'!H22/30,2)+16.67 -> 247.02 | I18: =TRUNC('Pay Table 2026'!I22/30,2)+16.67 -> 254.55 | ... W18: =TRUNC('Pay Table 2026'!W22/30,2)+16.67 -> 322.09
A19: W-2 | B19: =TRUNC('Pay Table 2026'!B23/30,2)+16.67 -> 170.73 | C19: =TRUNC('Pay Table 2026'!C23/30,2)+16.67 -> 185.3 | D19: =TRUNC('Pay Table 2026'!D23/30,2)+16.67 -> 189.78 | E19: =TRUNC('Pay Table 2026'!E23/30,2)+16.67 -> 192.87 | F19: =TRUNC('Pay Table 2026'!F23/30,2)+16.67 -> 202.85 | G19: =TRUNC('Pay Table 2026'!G23/30,2)+16.67 -> 218.37 | H19: =TRUNC('Pay Table 2026'!H23/30,2)+16.67 -> 226.09 | I19: =TRUNC('Pay Table 2026'!I23/30,2)+16.67 -> 233.65 | ... W19: =TRUNC('Pay Table 2026'!W23/30,2)+16.67 -> 273.81
A20: W-1 | B20: =TRUNC('Pay Table 2026'!B24/30,2)+16.67 -> 151.89 | C20: =TRUNC('Pay Table 2026'!C24/30,2)+16.67 -> 166.46 | D20: =TRUNC('Pay Table 2026'!D24/30,2)+16.67 -> 170.37 | E20: =TRUNC('Pay Table 2026'!E24/30,2)+16.67 -> 178.64 | F20: =TRUNC('Pay Table 2026'!F24/30,2)+16.67 -> 188.41 | G20: =TRUNC('Pay Table 2026'!G24/30,2)+16.67 -> 202.81 | H20: =TRUNC('Pay Table 2026'!H24/30,2)+16.67 -> 209.54 | I20: =TRUNC('Pay Table 2026'!I24/30,2)+16.67 -> 218.98 | ... W20: =TRUNC('Pay Table 2026'!W24/30,2)+16.67 -> 250.34
A21: E-9 | B21: =TRUNC('Pay Table 2026'!B27/30,2)+16.67 -> 16.67 | C21: =TRUNC('Pay Table 2026'!C27/30,2)+16.67 -> 16.67 | D21: =TRUNC('Pay Table 2026'!D27/30,2)+16.67 -> 16.67 | E21: =TRUNC('Pay Table 2026'!E27/30,2)+16.67 -> 16.67 | F21: =TRUNC('Pay Table 2026'!F27/30,2)+16.67 -> 16.67 | G21: =TRUNC('Pay Table 2026'!G27/30,2)+16.67 -> 16.67 | H21: =TRUNC('Pay Table 2026'!H27/30,2)+16.67 -> 247.01 | I21: =TRUNC('Pay Table 2026'!I27/30,2)+16.67 -> 252.22 | ... W21: =TRUNC('Pay Table 2026'!W27/30,2)+16.67 -> 374.31
A22: E-8 | B22: =TRUNC('Pay Table 2026'!B28/30,2)+16.67 -> 16.67 | C22: =TRUNC('Pay Table 2026'!C28/30,2)+16.67 -> 16.67 | D22: =TRUNC('Pay Table 2026'!D28/30,2)+16.67 -> 16.67 | E22: =TRUNC('Pay Table 2026'!E28/30,2)+16.67 -> 16.67 | F22: =TRUNC('Pay Table 2026'!F28/30,2)+16.67 -> 16.67 | G22: =TRUNC('Pay Table 2026'!G28/30,2)+16.67 -> 205.22 | H22: =TRUNC('Pay Table 2026'!H28/30,2)+16.67 -> 213.57 | I22: =TRUNC('Pay Table 2026'!I28/30,2)+16.67 -> 218.73 | ... W22: =TRUNC('Pay Table 2026'!W28/30,2)+16.67 -> 285.58
A23: E-7 | B23: =TRUNC('Pay Table 2026'!B29/30,2)+16.67 -> 147.74 | C23: =TRUNC('Pay Table 2026'!C29/30,2)+16.67 -> 159.72 | D23: =TRUNC('Pay Table 2026'!D29/30,2)+16.67 -> 165.21 | E23: =TRUNC('Pay Table 2026'!E29/30,2)+16.67 -> 172.44 | F23: =TRUNC('Pay Table 2026'!F29/30,2)+16.67 -> 178.13 | G23: =TRUNC('Pay Table 2026'!G29/30,2)+16.67 -> 187.86 | H23: =TRUNC('Pay Table 2026'!H29/30,2)+16.67 -> 193.35 | I23: =TRUNC('Pay Table 2026'!I29/30,2)+16.67 -> 203.06 | ... W23: =TRUNC('Pay Table 2026'!W29/30,2)+16.67 -> 252.25
A24: E-6 | B24: =TRUNC('Pay Table 2026'!B30/30,2)+16.67 -> 130.04 | C24: =TRUNC('Pay Table 2026'!C30/30,2)+16.67 -> 141.44 | D24: =TRUNC('Pay Table 2026'!D30/30,2)+16.67 -> 146.94 | E24: =TRUNC('Pay Table 2026'!E30/30,2)+16.67 -> 152.3 | F24: =TRUNC('Pay Table 2026'!F30/30,2)+16.67 -> 157.86 | G24: =TRUNC('Pay Table 2026'!G30/30,2)+16.67 -> 170.43 | H24: =TRUNC('Pay Table 2026'!H30/30,2)+16.67 -> 175.32 | I24: =TRUNC('Pay Table 2026'!I30/30,2)+16.67 -> 184.78 | ... W24: =TRUNC('Pay Table 2026'!W30/30,2)+16.67 -> 192.26
A25: E-5 | B25: =TRUNC('Pay Table 2026'!B31/30,2)+16.67 -> 128.1 | C25: =TRUNC('Pay Table 2026'!C31/30,2)+16.67 -> 136.61 | D25: =TRUNC('Pay Table 2026'!D31/30,2)+16.67 -> 142.53 | E25: =TRUNC('Pay Table 2026'!E31/30,2)+16.67 -> 148.23 | F25: =TRUNC('Pay Table 2026'!F31/30,2)+16.67 -> 153.67 | G25: =TRUNC('Pay Table 2026'!G31/30,2)+16.67 -> 160 | H25: =TRUNC('Pay Table 2026'!H31/30,2)+16.67 -> 163.18 | I25: =TRUNC('Pay Table 2026'!I31/30,2)+16.67 -> 164.06 | ... W25: =TRUNC('Pay Table 2026'!W31/30,2)+16.67 -> 164.06
A26: E-4 | B26: =TRUNC('Pay Table 2026'!B32/30,2)+16.67 -> 121.41 | C26: =TRUNC('Pay Table 2026'!C32/30,2)+16.67 -> 126.77 | D26: =TRUNC('Pay Table 2026'!D32/30,2)+16.67 -> 132.75 | E26: =TRUNC('Pay Table 2026'!E32/30,2)+16.67 -> 138.62 | F26: =TRUNC('Pay Table 2026'!F32/30,2)+16.67 -> 143.85 | G26: =TRUNC('Pay Table 2026'!G32/30,2)+16.67 -> 143.85 | H26: =TRUNC('Pay Table 2026'!H32/30,2)+16.67 -> 143.85 | I26: =TRUNC('Pay Table 2026'!I32/30,2)+16.67 -> 143.85 | ... W26: =TRUNC('Pay Table 2026'!W32/30,2)+16.67 -> 143.85
A27: E-3 | B27: =TRUNC('Pay Table 2026'!B33/30,2)+16.67 -> 111.23 | C27: =TRUNC('Pay Table 2026'!C33/30,2)+16.67 -> 117.17 | D27: =TRUNC('Pay Table 2026'!D33/30,2)+16.67 -> 123.27 | E27: =TRUNC('Pay Table 2026'!E33/30,2)+16.67 -> 123.27 | F27: =TRUNC('Pay Table 2026'!F33/30,2)+16.67 -> 123.27 | G27: =TRUNC('Pay Table 2026'!G33/30,2)+16.67 -> 123.27 | H27: =TRUNC('Pay Table 2026'!H33/30,2)+16.67 -> 123.27 | I27: =TRUNC('Pay Table 2026'!I33/30,2)+16.67 -> 123.27 | ... W27: =TRUNC('Pay Table 2026'!W33/30,2)+16.67 -> 123.27
A28: E-2 | B28: =TRUNC('Pay Table 2026'!B34/30,2)+16.67 -> 106.6 | C28: =TRUNC('Pay Table 2026'!C34/30,2)+16.67 -> 106.6 | D28: =TRUNC('Pay Table 2026'!D34/30,2)+16.67 -> 106.6 | E28: =TRUNC('Pay Table 2026'!E34/30,2)+16.67 -> 106.6 | F28: =TRUNC('Pay Table 2026'!F34/30,2)+16.67 -> 106.6 | G28: =TRUNC('Pay Table 2026'!G34/30,2)+16.67 -> 106.6 | H28: =TRUNC('Pay Table 2026'!H34/30,2)+16.67 -> 106.6 | I28: =TRUNC('Pay Table 2026'!I34/30,2)+16.67 -> 106.6 | ... W28: =TRUNC('Pay Table 2026'!W34/30,2)+16.67 -> 106.6
A29: E-1 | B29: =TRUNC('Pay Table 2026'!B35/30,2)+16.67 -> 96.91 | C29: =TRUNC('Pay Table 2026'!C35/30,2)+16.67 -> 96.91 | D29: =TRUNC('Pay Table 2026'!D35/30,2)+16.67 -> 96.91 | E29: =TRUNC('Pay Table 2026'!E35/30,2)+16.67 -> 96.91 | F29: =TRUNC('Pay Table 2026'!F35/30,2)+16.67 -> 96.91 | G29: =TRUNC('Pay Table 2026'!G35/30,2)+16.67 -> 96.91 | H29: =TRUNC('Pay Table 2026'!H35/30,2)+16.67 -> 96.91 | I29: =TRUNC('Pay Table 2026'!I35/30,2)+16.67 -> 96.91 | ... W29: =TRUNC('Pay Table 2026'!W35/30,2)+16.67 -> 96.91

Sheet Pay Table 2026
B1: Pay Table 2026
B2: 2 or less | C2: Over 2 | D2: Over 3 | E2: Over 4 | F2: Over 6 | G2: Over 8 | H2: Over 10 | I2: Over 12 | J2: Over 14 | K2: Over 16 | L2: Over 18 | M2: Over 20 | N2: Over 22 | O2: Over 24 | P2: Over 26 | Q2: Over 28 | R2: Over 30 | S2: Over 32 | T2: Over 34 | U2: Over 36 | V2: Over 38 | W2: Over 40
A3: O-10 | B3: 0 | C3: 0 | D3: 0 | E3: 0 | F3: 0 | G3: 0 | H3: 0 | I3: 0 | J3: 0 | K3: 0 | L3: 0 | M3: 18999.9 | N3: 18999.9 | O3: 18999.9 | P3: 18999.9 | Q3: 18999.9 | R3: 18999.9 | S3: 18999.9 | T3: 18999.9 | U3: 18999.9 | V3: 18999.9 | W3: 18999.9
A4: O-9 | B4: 0 | C4: 0 | D4: 0 | E4: 0 | F4: 0 | G4: 0 | H4: 0 | I4: 0 | J4: 0 | K4: 0 | L4: 0 | M4: 18999.9 | N4: 18999.9 | O4: 18999.9 | P4: 18999.9 | Q4: 18999.9 | R4: 18999.9 | S4: 18999.9 | T4: 18999.9 | U4: 18999.9 | V4: 18999.9 | W4: 18999.9
A5: O-8 | B5: 13888.5 | C5: 14343.9 | D5: 14645.4 | E5: 14729.4 | F5: 15106.5 | G5: 15735.3 | H5: 15882 | I5: 16479.6 | J5: 16651.8 | K5: 17166.6 | L5: 17911.8 | M5: 18598.2 | N5: 18999.9 | O5: 18999.9 | P5: 18999.9 | Q5: 18999.9 | R5: 18999.9 | S5: 18999.9 | T5: 18999.9 | U5: 18999.9 | V5: 18999.9 | W5: 18999.9
A6: O-7 | B6: 11540.1 | C6: 12076.2 | D6: 12324.3 | E6: 12522 | F6: 12878.7 | G6: 13231.8 | H6: 13639.2 | I6: 14045.7 | J6: 14454.3 | K6: 15735.3 | L6: 16817.7 | M6: 16817.7 | N6: 16817.7 | O6: 16817.7 | P6: 16904.4 | Q6: 16904.4 | R6: 17242.2 | S6: 17242.2 | T6: 17242.2 | U6: 17242.2 | V6: 17242.2 | W6: 17242.2
A7: O-6 | B7: 8751.3 | C7: 9613.8 | D7: 10245 | E7: 10245 | F7: 10284.3 | G7: 10725 | H7: 10783.5 | I7: 10783.5 | J7: 11396.4 | K7: 12479.7 | L7: 13115.4 | M7: 13751.1 | N7: 14112.9 | O7: 14479.2 | P7: 15188.7 | Q7: 15188.7 | R7: 15408.3 | S7: 15408.3 | T7: 15408.3 | U7: 15408.3 | V7: 15408.3 | W7: 15408.3
A8: O-5 | B8: 7295.4 | C8: 8218.2 | D8: 8787 | E8: 8894.1 | F8: 9249.6 | G8: 9461.4 | H8: 9928.5 | I8: 10271.7 | J8: 10715.1 | K8: 11391.3 | L8: 11713.8 | M8: 12032.7 | N8: 12394.8 | O8: 12394.8 | P8: 12394.8 | Q8: 12394.8 | R8: 12394.8 | S8: 12394.8 | T8: 12394.8 | U8: 12394.8 | V8: 12394.8 | W8: 12394.8
A9: O-4 | B9: 6294.6 | C9: 7286.4 | D9: 7773.6 | E9: 7881 | F9: 8332.2 | G9: 8816.4 | H9: 9420 | I9: 9888.3 | J9: 10214.4 | K9: 10401.6 | L9: 10509.9 | M9: 10509.9 | N9: 10509.9 | O9: 10509.9 | P9: 10509.9 | Q9: 10509.9 | R9: 10509.9 | S9: 10509.9 | T9: 10509.9 | U9: 10509.9 | V9: 10509.9 | W9: 10509.9
A10: O-3 | B10: 5534.1 | C10: 6273.9 | D10: 6770.4 | E10: 7382.7 | F10: 7737 | G10: 8125.5 | H10: 8375.7 | I10: 8788.2 | J10: 9004.2 | K10: 9004.2 | L10: 9004.2 | M10: 9004.2 | N10: 9004.2 | O10: 9004.2 | P10: 9004.2 | Q10: 9004.2 | R10: 9004.2 | S10: 9004.2 | T10: 9004.2 | U10: 9004.2 | V10: 9004.2 | W10: 9004.2
A11: O-2 | B11: 4782 | C11: 5446.2 | D11: 6272.4 | E11: 6484.5 | F11: 6617.7 | G11: 6617.7 | H11: 6617.7 | I11: 6617.7 | J11: 6617.7 | K11: 6617.7 | L11: 6617.7 | M11: 6617.7 | N11: 6617.7 | O11: 6617.7 | P11: 6617.7 | Q11: 6617.7 | R11: 6617.7 | S11: 6617.7 | T11: 6617.7 | U11: 6617.7 | V11: 6617.7 | W11: 6617.7
A12: O-1 | B12: 4150.2 | C12: 4320 | D12: 5222.4 | E12: 5222.4 | F12: 5222.4 | G12: 5222.4 | H12: 5222.4 | I12: 5222.4 | J12: 5222.4 | K12: 5222.4 | L12: 5222.4 | M12: 5222.4 | N12: 5222.4 | O12: 5222.4 | P12: 5222.4 | Q12: 5222.4 | R12: 5222.4 | S12: 5222.4 | T12: 5222.4 | U12: 5222.4 | V12: 5222.4 | W12: 5222.4
B14: 2 or less | C14: Over 2 | D14: Over 3 | E14: Over 4 | F14: Over 6 | G14: Over 8 | H14: Over 10 | I14: Over 12 | J14: Over 14 | K14: Over 16 | L14: Over 18 | M14: Over 20 | N14: Over 22 | O14: Over 24 | P14: Over 26 | Q14: Over 28 | R14: Over 30 | S14: Over 32 | T14: Over 34 | U14: Over 36 | V14: Over 38 | W14: Over 40
A15: O-3E | B15: 0 | C15: 0 | D15: 0 | E15: 7382.7 | F15: 7737 | G15: 8125.5 | H15: 8375.7 | I15: 8788.2 | J15: 9137.1 | K15: 9336.9 | L15: 9609.6 | M15: 9609.6 | N15: 9609.6 | O15: 9609.6 | P15: 9609.6 | Q15: 9609.6 | R15: 9609.6 | S15: 9609.6 | T15: 9609.6 | U15: 9609.6 | V15: 9609.6 | W15: 9609.6
A16: O-2E | B16: 0 | C16: 0 | D16: 0 | E16: 6484.5 | F16: 6617.7 | G16: 6828 | H16: 7183.8 | I16: 7458.9 | J16: 7663.5 | K16: 7663.5 | L16: 7663.5 | M16: 7663.5 | N16: 7663.5 | O16: 7663.5 | P16: 7663.5 | Q16: 7663.5 | R16: 7663.5 | S16: 7663.5 | T16: 7663.5 | U16: 7663.5 | V16: 7663.5 | W16: 7663.5
A17: O-1E | B17: 0 | C17: 0 | D17: 0 | E17: 5222.4 | F17: 5576.7 | G17: 5783.1 | H17: 5993.7 | I17: 6200.7 | J17: 6484.5 | K17: 6484.5 | L17: 6484.5 | M17: 6484.5 | N17: 6484.5 | O17: 6484.5 | P17: 6484.5 | Q17: 6484.5 | R17: 6484.5 | S17: 6484.5 | T17: 6484.5 | U17: 6484.5 | V17: 6484.5 | W17: 6484.5
B19: 2 or less | C19: Over 2 | D19: Over 3 | E19: Over 4 | F19: Over 6 | G19: Over 8 | H19: Over 10 | I19: Over 12 | J19: Over 14 | K19: Over 16 | L19: Over 18 | M19: Over 20 | N19: Over 22 | O19: Over 24 | P19: Over 26 | Q19: Over 28 | R19: Over 30 | S19: Over 32 | T19: Over 34 | U19: Over 36 | V19: Over 38 | W19: Over 40
A20: W-5 | B20: 0 | C20: 0 | D20: 0 | E20: 0 | F20: 0 | G20: 0 | H20: 0 | I20: 0 | J20: 0 | K20: 0 | L20: 0 | M20: 10169.7 | N20: 10685.7 | O20: 11070.3 | P20: 11495.1 | Q20: 11495.1 | R20: 12070.8 | S20: 12070.8 | T20: 12673.5 | U20: 12673.5 | V20: 13308.3 | W20: 13308.3
A21: W-4 | B21: 5719.8 | C21: 6152.1 | D21: 6328.5 | E21: 6502.2 | F21: 6801.9 | G21: 7098 | H21: 7398 | I21: 7848.3 | J21: 8243.7 | K21: 8619.9 | L21: 8928.6 | M21: 9228.9 | N21: 9669.6 | O21: 10032 | P21: 10445.4 | Q21: 10445.4 | R21: 10653.6 | S21: 10653.6 | T21: 10653.6 | U21: 10653.6 | V21: 10653.6 | W21: 10653.6
A22: W-3 | B22: 5223.3 | C22: 5440.5 | D22: 5664.3 | E22: 5736.9 | F22: 5970.9 | G22: 6431.1 | H22: 6910.5 | I22: 7136.4 | J22: 7397.7 | K22: 7665.9 | L22: 8150.4 | M22: 8476.5 | N22: 8671.8 | O22: 8879.7 | P22: 9162.6 | Q22: 9162.6 | R22: 9162.6 | S22: 9162.6 | T22: 9162.6 | U22: 9162.6 | V22: 9162.6 | W22: 9162.6
A23: W-2 | B23: 4621.8 | C23: 5058.9 | D23: 5193.3 | E23: 5286 | F23: 5585.4 | G23: 6051 | H23: 6282.6 | I23: 6509.4 | J23: 6787.5 | K23: 7005 | L23: 7201.5 | M23: 7437 | N23: 7591.5 | O23: 7714.2 | P23: 7714.2 | Q23: 7714.2 | R23: 7714.2 | S23: 7714.2 | T23: 7714.2 | U23: 7714.2 | V23: 7714.2 | W23: 7714.2
A24: W-1 | B24: 4056.6 | C24: 4493.7 | D24: 4611 | E24: 4859.1 | F24: 5152.2 | G24: 5584.2 | H24: 5786.1 | I24: 6069.3 | J24: 6346.5 | K24: 6564.9 | L24: 6766.2 | M24: 7010.1 | N24: 7010.1 | O24: 7010.1 | P24: 7010.1 | Q24: 7010.1 | R24: 7010.1 | S24: 7010.1 | T24: 7010.1 | U24: 7010.1 | V24: 7010.1 | W24: 7010.1
B26: 2 or less | C26: Over 2 | D26: Over 3 | E26: Over 4 | F26: Over 6 | G26: Over 8 | H26: Over 10 | I26: Over 12 | J26: Over 14 | K26: Over 16 | L26: Over 18 | M26: Over 20 | N26: Over 22 | O26: Over 24 | P26: Over 26 | Q26: Over 28 | R26: Over 30 | S26: Over 32 | T26: Over 34 | U26: Over 36 | V26: Over 38 | W26: Over 40
A27: E-9 | B27: 0 | C27: 0 | D27: 0 | E27: 0 | F27: 0 | G27: 0 | H27: 6910.2 | I27: 7066.5 | J27: 7263.6 | K27: 7496.1 | L27: 7730.7 | M27: 8105.1 | N27: 8423.1 | O27: 8756.7 | P27: 9267.9 | Q27: 9267.9 | R27: 9730.2 | S27: 9730.2 | T27: 10217.4 | U27: 10217.4 | V27: 10729.2 | W27: 10729.2
A28: E-8 | B28: 0 | C28: 0 | D28: 0 | E28: 0 | F28: 0 | G28: 5656.5 | H28: 5907 | I28: 6061.8 | J28: 6247.2 | K28: 6448.2 | L28: 6811.2 | M28: 6995.4 | N28: 7308.3 | O28: 7481.7 | P28: 7908.9 | Q28: 7908.9 | R28: 8067.3 | S28: 8067.3 | T28: 8067.3 | U28: 8067.3 | V28: 8067.3 | W28: 8067.3
A29: E-7 | B29: 3932.1 | C29: 4291.5 | D29: 4456.2 | E29: 4673.1 | F29: 4843.8 | G29: 5135.7 | H29: 5300.4 | I29: 5591.7 | J29: 5835 | K29: 6000.9 | L29: 6177.3 | M29: 6245.7 | N29: 6475.2 | O29: 6598.2 | P29: 7067.4 | Q29: 7067.4 | R29: 7067.4 | S29: 7067.4 | T29: 7067.4 | U29: 7067.4 | V29: 7067.4 | W29: 7067.4
A30: E-6 | B30: 3401.1 | C30: 3743.1 | D30: 3908.1 | E30: 4068.9 | F30: 4235.7 | G30: 4612.8 | H30: 4759.5 | I30: 5043.3 | J30: 5130.3 | K30: 5193.6 | L30: 5267.7 | M30: 5267.7 | N30: 5267.7 | O30: 5267.7 | P30: 5267.7 | Q30: 5267.7 | R30: 5267.7 | S30: 5267.7 | T30: 5267.7 | U30: 5267.7 | V30: 5267.7 | W30: 5267.7
A31: E-5 | B31: 3342.9 | C31: 3598.2 | D31: 3775.8 | E31: 3946.8 | F31: 4110 | G31: 4299.9 | H31: 4395.3 | I31: 4421.7 | J31: 4421.7 | K31: 4421.7 | L31: 4421.7 | M31: 4421.7 | N31: 4421.7 | O31: 4421.7 | P31: 4421.7 | Q31: 4421.7 | R31: 4421.7 | S31: 4421.7 | T31: 4421.7 | U31: 4421.7 | V31: 4421.7 | W31: 4421.7
A32: E-4 | B32: 3142.2 | C32: 3303 | D32: 3482.4 | E32: 3658.5 | F32: 3815.4 | G32: 3815.4 | H32: 3815.4 | I32: 3815.4 | J32: 3815.4 | K32: 3815.4 | L32: 3815.4 | M32: 3815.4 | N32: 3815.4 | O32: 3815.4 | P32: 3815.4 | Q32: 3815.4 | R32: 3815.4 | S32: 3815.4 | T32: 3815.4 | U32: 3815.4 | V32: 3815.4 | W32: 3815.4
A33: E-3 | B33: 2836.8 | C33: 3015 | D33: 3198 | E33: 3198 | F33: 3198 | G33: 3198 | H33: 3198 | I33: 3198 | J33: 3198 | K33: 3198 | L33: 3198 | M33: 3198 | N33: 3198 | O33: 3198 | P33: 3198 | Q33: 3198 | R33: 3198 | S33: 3198 | T33: 3198 | U33: 3198 | V33: 3198 | W33: 3198
A34: E-2 | B34: 2697.9 | C34: 2697.9 | D34: 2697.9 | E34: 2697.9 | F34: 2697.9 | G34: 2697.9 | H34: 2697.9 | I34: 2697.9 | J34: 2697.9 | K34: 2697.9 | L34: 2697.9 | M34: 2697.9 | N34: 2697.9 | O34: 2697.9 | P34: 2697.9 | Q34: 2697.9 | R34: 2697.9 | S34: 2697.9 | T34: 2697.9 | U34: 2697.9 | V34: 2697.9 | W34: 2697.9
A35: E-1 | B35: 2407.2 | C35: 2407.2 | D35: 2407.2 | E35: 2407.2 | F35: 2407.2 | G35: 2407.2 | H35: 2407.2 | I35: 2407.2 | J35: 2407.2 | K35: 2407.2 | L35: 2407.2 | M35: 2407.2 | N35: 2407.2 | O35: 2407.2 | P35: 2407.2 | Q35: 2407.2 | R35: 2407.2 | S35: 2407.2 | T35: 2407.2 | U35: 2407.2 | V35: 2407.2 | W35: 2407.2

Sheet Non-Locality BAH 2026
B1: BAH Without Dependents | C1: BAH With Dependents
A2: O-10 | B2: 2466.3 | C2: 3035.1
A3: O-9 | B3: 2466.3 | C3: 3035.1
A4: O-8 | B4: 2466.3 | C4: 3035.1
A5: O-7 | B5: 2466.3 | C5: 3035.1
A6: O-6 | B6: 2261.7 | C6: 2731.8
A7: O-5 | B7: 2178 | C7: 2633.4
A8: O-4 | B8: 2017.8 | C8: 2320.8
A9: O-3 | B9: 1618.2 | C9: 1920.3
A10: O-2 | B10: 1281.9 | C10: 1638.3
A11: O-1 | B11: 1100.7 | C11: 1466.7
A12: O-3E | B12: 1746.6 | C12: 2063.7
A13: O-2E | B13: 1485.3 | C13: 1862.4
... A28: E-1 | B28: 811.5 | C28: 1080.6

Sheet Daily Non-Locality BAH 2026
B1: BAH Without Dependents | C1: BAH With Dependents
A2: O-10 | B2: ='Non-Locality BAH 2026'!B2/30 -> 82.21 | C2: ='Non-Locality BAH 2026'!C2/30 -> 101.17
A3: O-9 | B3: ='Non-Locality BAH 2026'!B3/30 -> 82.21 | C3: ='Non-Locality BAH 2026'!C3/30 -> 101.17
A4: O-8 | B4: ='Non-Locality BAH 2026'!B4/30 -> 82.21 | C4: ='Non-Locality BAH 2026'!C4/30 -> 101.17
A5: O-7 | B5: ='Non-Locality BAH 2026'!B5/30 -> 82.21 | C5: ='Non-Locality BAH 2026'!C5/30 -> 101.17
A6: O-6 | B6: ='Non-Locality BAH 2026'!B6/30 -> 75.39 | C6: ='Non-Locality BAH 2026'!C6/30 -> 91.06
A7: O-5 | B7: ='Non-Locality BAH 2026'!B7/30 -> 72.6 | C7: ='Non-Locality BAH 2026'!C7/30 -> 87.78
A8: O-4 | B8: ='Non-Locality BAH 2026'!B8/30 -> 67.26 | C8: ='Non-Locality BAH 2026'!C8/30 -> 77.36
A9: O-3 | B9: ='Non-Locality BAH 2026'!B9/30 -> 53.94 | C9: ='Non-Locality BAH 2026'!C9/30 -> 64.01
A10: O-2 | B10: ='Non-Locality BAH 2026'!B10/30 -> 42.73 | C10: ='Non-Locality BAH 2026'!C10/30 -> 54.61
A11: O-1 | B11: ='Non-Locality BAH 2026'!B11/30 -> 36.69 | C11: ='Non-Locality BAH 2026'!C11/30 -> 48.89
A12: O-3E | B12: ='Non-Locality BAH 2026'!B12/30 -> 58.22 | C12: ='Non-Locality BAH 2026'!C12/30 -> 68.79
A13: O-2E | B13: ='Non-Locality BAH 2026'!B13/30 -> 49.51 | C13: ='Non-Locality BAH 2026'!C13/30 -> 62.08
... A28: E-1 | B28: ='Non-Locality BAH 2026'!B28/30 -> 27.05 | C28: ='Non-Locality BAH 2026'!C28/30 -> 36.02

Sheet BAS & PER DIEM
A2: BAS Rate Monthly | B2: Officers | C2: Enlisted | F2: Per Diem
A3: 2026 | B3: 328.48 | C3: 476.95 | F3: 2026 | G3: 68
A5: BAS Rate Daily | B5: Officers | C5: Enlisted
A6: 2026 | B6: =B3/30 -> 10.949333 | C6: =C3/30 -> 15.898333

Sheet Misc Tables
A1: Grade | B1: Marital Status | C1: Yes
A2: O-10 | B2: Single | C2: No
A3: O-9 | B3: Married
A4: O-8 | B4: Divorced
A5: O-7
A6: O-6
A7: O-5
A8: O-4
A9: O-3
A10: O-2
A11: O-1
A12: O-3E
A13: O-2E
A14: O-1E
A15: W-5
A16: W-4
... A28: E-1
